BEGIN:VCALENDAR
VERSION:2.0
CALSCALE:GREGORIAN
PRODID:-//Diputació de Barcelona//DibaCMS//EN
BEGIN:VEVENT
UID:4621
DTSTAMP:20260423T215943
DTSTART:20260510T120000
DTEND:20260510T130000
SUMMARY:Festa Holy
LOCATION:
METHOD:PUBLISH
X-WR-CALNAME:montgat@montgat.cat
X-WR-TIMEZONE:Europe/Madrid
DESCRIPTION:Al Parc de la Riera d'en Font

URI:https://www.montgat.cat/actualitat/agenda-del-mes/festa-holy.html
CLASS:PUBLIC
END:VEVENT
END:VCALENDAR
