BEGIN:VCALENDAR
VERSION:2.0
CALSCALE:GREGORIAN
PRODID:-//Diputació de Barcelona//DibaCMS//EN
BEGIN:VEVENT
UID:4620
DTSTAMP:20260423T114007
DTSTART:20260503T090000
DTEND:20260503T130000
SUMMARY:Dia de la Policia Local de Montgat
LOCATION:
METHOD:PUBLISH
X-WR-CALNAME:montgat@montgat.cat
X-WR-TIMEZONE:Europe/Madrid
DESCRIPTION:I Jornada de vehicles històrics i d'emergències

URI:https://www.montgat.cat/actualitat/agenda-del-mes/4620-dia-de-la-policia-local-de-montgat.html
CLASS:PUBLIC
END:VEVENT
END:VCALENDAR
