BEGIN:VCALENDAR
VERSION:2.0
CALSCALE:GREGORIAN
PRODID:-//Diputació de Barcelona//DibaCMS//EN
BEGIN:VEVENT
UID:4615
DTSTAMP:20260425T021524
DTSTART:20260517T100000
DTEND:20260517T140000
SUMMARY:Festa de les Famílies Tribu Fest 
LOCATION:08390 Montgat
METHOD:PUBLISH
X-WR-CALNAME:montgat@montgat.cat
X-WR-TIMEZONE:Europe/Madrid
DESCRIPTION:Diumenge 17 de maig

URI:https://www.montgat.cat/actualitat/agenda-del-mes/festa-de-les-families-tribu-fest-.html
CLASS:PUBLIC
END:VEVENT
END:VCALENDAR
