BEGIN:VCALENDAR
VERSION:2.0
CALSCALE:GREGORIAN
PRODID:-//Diputació de Barcelona//DibaCMS//EN
BEGIN:VEVENT
UID:4491
DTSTAMP:20260423T224002
DTSTART:20260314T203000
DTEND:20260314T223000
SUMMARY:Concert
LOCATION:Ronda dels Països Catalans, s/n 08390 Montgat
METHOD:PUBLISH
X-WR-CALNAME:montgat@montgat.cat
X-WR-TIMEZONE:Europe/Madrid
DESCRIPTION:amb el grup Voel 

URI:https://www.montgat.cat/actualitat/agenda-del-mes/concert.html
CLASS:PUBLIC
END:VEVENT
END:VCALENDAR
