BEGIN:VCALENDAR
VERSION:2.0
CALSCALE:GREGORIAN
PRODID:-//Diputació de Barcelona//DibaCMS//EN
BEGIN:VEVENT
UID:4490
DTSTAMP:20260423T223839
DTSTART:20260308T180000
DTEND:20260308T190000
SUMMARY:Acte institucional del Dia Internacional de les Dones
LOCATION:Ronda dels Països Catalans, s/n 08390 Montgat
METHOD:PUBLISH
X-WR-CALNAME:montgat@montgat.cat
X-WR-TIMEZONE:Europe/Madrid
DESCRIPTION:Lectura del Manifest i Teatre a càrrec del CRIC

URI:https://www.montgat.cat/actualitat/agenda-del-mes/4490-acte-institucional-del-dia-internacional-de-les-dones.html
CLASS:PUBLIC
END:VEVENT
END:VCALENDAR
