BEGIN:VCALENDAR
VERSION:2.0
CALSCALE:GREGORIAN
PRODID:-//Diputació de Barcelona//DibaCMS//EN
BEGIN:VEVENT
UID:4317
DTSTAMP:20260426T032033
DTSTART:20260219T183000
DTEND:20260219T193000
SUMMARY:Conferència “Hi ha algú allà dalt?”
LOCATION:08390 Montgat
METHOD:PUBLISH
X-WR-CALNAME:montgat@montgat.cat
X-WR-TIMEZONE:Europe/Madrid
DESCRIPTION:Organitzada per l'Aula d'Extensió Universitària

URI:https://www.montgat.cat/actualitat/agenda-del-mes/conferencia-hi-ha-algu-alla-dalt.html
CLASS:PUBLIC
END:VEVENT
END:VCALENDAR
