BEGIN:VCALENDAR
VERSION:2.0
CALSCALE:GREGORIAN
PRODID:-//Diputació de Barcelona//DibaCMS//EN
BEGIN:VEVENT
UID:4316
DTSTAMP:20260426T031845
DTSTART:20260205T183000
DTEND:20260205T193000
SUMMARY:Conferència “SUBIRACHS, artista polifacètic”.
LOCATION:Ronda dels Països Catalans, s/n 08390 Montgat
METHOD:PUBLISH
X-WR-CALNAME:montgat@montgat.cat
X-WR-TIMEZONE:Europe/Madrid
DESCRIPTION:Organitzada per l’Aula d’Extensió Universitària Timó

URI:https://www.montgat.cat/actualitat/agenda-del-mes/conferencia-subirachs-artista-polifacetic.html
CLASS:PUBLIC
END:VEVENT
END:VCALENDAR
