BEGIN:VCALENDAR
VERSION:2.0
CALSCALE:GREGORIAN
PRODID:-//Diputació de Barcelona//DibaCMS//EN
BEGIN:VEVENT
UID:4314
DTSTAMP:20260426T021703
DTSTART:20260122T183000
DTEND:20260122T193000
SUMMARY:Conferència  «La guerra d’Ucraïna, vista des de dins»
LOCATION:08390 Montgat
METHOD:PUBLISH
X-WR-CALNAME:montgat@montgat.cat
X-WR-TIMEZONE:Europe/Madrid
DESCRIPTION:Casal de Tiana: Sala Albèniz

URI:https://www.montgat.cat/actualitat/agenda-del-mes/conferencia-la-guerra-ducraina-vista-des-de-dins.html
CLASS:PUBLIC
END:VEVENT
END:VCALENDAR
