BEGIN:VCALENDAR
VERSION:2.0
CALSCALE:GREGORIAN
PRODID:-//Diputació de Barcelona//DibaCMS//EN
BEGIN:VEVENT
UID:4313
DTSTAMP:20260426T022502
DTSTART:20260408T000000
DTEND:20260408T000000
SUMMARY:Sortida al teatre
LOCATION:
METHOD:PUBLISH
X-WR-CALNAME:montgat@montgat.cat
X-WR-TIMEZONE:Europe/Madrid
DESCRIPTION:Organitzada per l’Aula d’Extensió Universitària Timó

URI:https://www.montgat.cat/actualitat/agenda-del-mes/sortida-al-teatre.html
CLASS:PUBLIC
END:VEVENT
END:VCALENDAR
