BEGIN:VCALENDAR
VERSION:2.0
CALSCALE:GREGORIAN
PRODID:-//Diputació de Barcelona//DibaCMS//EN
BEGIN:VEVENT
UID:4312
DTSTAMP:20260426T021615
DTSTART:20260226T000000
DTEND:20260226T000000
SUMMARY:Excursió a l'Espai Subirachs
LOCATION:
METHOD:PUBLISH
X-WR-CALNAME:montgat@montgat.cat
X-WR-TIMEZONE:Europe/Madrid
DESCRIPTION:Organitzada  per l’Aula d’Extensió Universitària Timó

URI:https://www.montgat.cat/actualitat/agenda-del-mes/excursio-a-lespai-subirachs.html
CLASS:PUBLIC
END:VEVENT
END:VCALENDAR
