BEGIN:VCALENDAR
VERSION:2.0
CALSCALE:GREGORIAN
PRODID:-//Diputació de Barcelona//DibaCMS//EN
BEGIN:VEVENT
UID:4304
DTSTAMP:20260426T021422
DTSTART:20260128T183000
DTEND:20260128T193000
SUMMARY:Entre Llibres de gener
LOCATION:Ronda dels Països Catalans, s/n 08390 Montgat
METHOD:PUBLISH
X-WR-CALNAME:montgat@montgat.cat
X-WR-TIMEZONE:Europe/Madrid
DESCRIPTION:
URI:https://www.montgat.cat/actualitat/agenda-del-mes/entre-llibres-de-gener.html
CLASS:PUBLIC
END:VEVENT
END:VCALENDAR
