BEGIN:VCALENDAR
VERSION:2.0
CALSCALE:GREGORIAN
PRODID:-//Diputació de Barcelona//DibaCMS//EN
BEGIN:VEVENT
UID:4295
DTSTAMP:20260426T021652
DTSTART:20260123T090000
DTEND:20260123T133000
SUMMARY:Ens visita l’Oficina mòbil d’Aigües de Barcelona
LOCATION:08390 Montgat
METHOD:PUBLISH
X-WR-CALNAME:montgat@montgat.cat
X-WR-TIMEZONE:Europe/Madrid
DESCRIPTION:Atenció presencial per a la gestió dels tràmits i consultes sobre el servei i consum de l’aigua

URI:https://www.montgat.cat/actualitat/agenda-del-mes/4295-ens-visita-loficina-mobil-daigues-de-barcelona.html
CLASS:PUBLIC
END:VEVENT
END:VCALENDAR
