BEGIN:VCALENDAR
VERSION:2.0
CALSCALE:GREGORIAN
PRODID:-//Diputació de Barcelona//DibaCMS//EN
BEGIN:VEVENT
UID:4233
DTSTAMP:20260423T114655
DTSTART:20251214T090000
DTEND:20251214T150000
SUMMARY:Fira de Nadal al Parc del Tramvia
LOCATION:Av. Jordana, 92 08390 Montgat
METHOD:PUBLISH
X-WR-CALNAME:montgat@montgat.cat
X-WR-TIMEZONE:Europe/Madrid
DESCRIPTION:Tradició i comerç local

URI:https://www.montgat.cat/actualitat/agenda-del-mes/4233-fira-de-nadal-al-parc-del-tramvia.html
CLASS:PUBLIC
END:VEVENT
END:VCALENDAR
