BEGIN:VCALENDAR
VERSION:2.0
CALSCALE:GREGORIAN
PRODID:-//Diputació de Barcelona//DibaCMS//EN
BEGIN:VEVENT
UID:4201
DTSTAMP:20260424T195024
DTSTART:20251201T080000
DTEND:20260106T000000
SUMMARY:Gaudiu del Nadal a Montgat!
LOCATION:
METHOD:PUBLISH
X-WR-CALNAME:montgat@montgat.cat
X-WR-TIMEZONE:Europe/Madrid
DESCRIPTION:Del 28 de novembre al 5 de gener gaudeix del Nadal a Montgat!

URI:https://www.montgat.cat/actualitat/agenda-del-mes/gaudiu-del-nadal-a-montgat.html
CLASS:PUBLIC
END:VEVENT
END:VCALENDAR
