BEGIN:VCALENDAR
VERSION:2.0
CALSCALE:GREGORIAN
PRODID:-//Diputació de Barcelona//DibaCMS//EN
BEGIN:VEVENT
UID:4137
DTSTAMP:20260421T115954
DTSTART:20251023T173000
DTEND:20251023T183000
SUMMARY:Tardor en dansa: Taller Interlúdic
LOCATION:Ronda dels Països Catalans, s/n 08390 Montgat
METHOD:PUBLISH
X-WR-CALNAME:montgat@montgat.cat
X-WR-TIMEZONE:Europe/Madrid
DESCRIPTION:Taller de dansa per a tots els públics

URI:https://www.montgat.cat/actualitat/agenda-del-mes/tardor-en-dansa-taller-interludic.html
CLASS:PUBLIC
END:VEVENT
END:VCALENDAR
