BEGIN:VCALENDAR
VERSION:2.0
CALSCALE:GREGORIAN
PRODID:-//Diputació de Barcelona//DibaCMS//EN
BEGIN:VEVENT
UID:4127
DTSTAMP:20260423T111028
DTSTART:20251031T170000
DTEND:20251031T200000
SUMMARY:Festa de la Tardor
LOCATION:08390 Montgat
METHOD:PUBLISH
X-WR-CALNAME:montgat@montgat.cat
X-WR-TIMEZONE:Europe/Madrid
DESCRIPTION:Vine a celebrar la tardor amb nosaltres

URI:https://www.montgat.cat/actualitat/agenda-del-mes/4127-festa-de-la-tardor.html
CLASS:PUBLIC
END:VEVENT
END:VCALENDAR
