BEGIN:VCALENDAR
VERSION:2.0
CALSCALE:GREGORIAN
PRODID:-//Diputació de Barcelona//DibaCMS//EN
BEGIN:VEVENT
UID:4027
DTSTAMP:20260421T131712
DTSTART:20250906T180000
DTEND:20250907T130000
SUMMARY:II Trobada Gegantera a les Costes
LOCATION:08390 Montgat
METHOD:PUBLISH
X-WR-CALNAME:montgat@montgat.cat
X-WR-TIMEZONE:Europe/Madrid
DESCRIPTION:Menjar, música i cultura pel cap de setmana

URI:https://www.montgat.cat/actualitat/agenda-del-mes/ii-trobada-gegantera-a-les-costes.html
CLASS:PUBLIC
END:VEVENT
END:VCALENDAR
