BEGIN:VCALENDAR
VERSION:2.0
CALSCALE:GREGORIAN
PRODID:-//Diputació de Barcelona//DibaCMS//EN
BEGIN:VEVENT
UID:3570
DTSTAMP:20260421T120123
DTSTART:20250103T103000
DTEND:20250104T193000
SUMMARY:Parc infantil de Nadal 
LOCATION:Passeig Abat Escarré, s/n 08390 Montgat
METHOD:PUBLISH
X-WR-CALNAME:montgat@montgat.cat
X-WR-TIMEZONE:Europe/Madrid
DESCRIPTION:
URI:https://www.montgat.cat/actualitat/agenda-del-mes/parc-infantil-de-nadal-.html
CLASS:PUBLIC
END:VEVENT
END:VCALENDAR
