BEGIN:VCALENDAR
VERSION:2.0
CALSCALE:GREGORIAN
PRODID:-//Diputació de Barcelona//DibaCMS//EN
BEGIN:VEVENT
UID:2374
DTSTAMP:20260423T112655
DTSTART:20220930T173000
DTEND:20220930T190000
SUMMARY:BiblioLab
LOCATION:
METHOD:PUBLISH
X-WR-CALNAME:montgat@montgat.cat
X-WR-TIMEZONE:Europe/Madrid
DESCRIPTION:
URI:https://www.montgat.cat/actualitat/agenda-del-mes/bibliolab.html
CLASS:PUBLIC
END:VEVENT
END:VCALENDAR
