BEGIN:VCALENDAR
VERSION:2.0
CALSCALE:GREGORIAN
PRODID:-//Diputació de Barcelona//DibaCMS//EN
BEGIN:VEVENT
UID:2337
DTSTAMP:20260422T012631
DTSTART:20220715T183000
DTEND:20220715T200000
SUMMARY:Concert de música amb  VO Versions Originals
LOCATION:08390 Montgat
METHOD:PUBLISH
X-WR-CALNAME:montgat@montgat.cat
X-WR-TIMEZONE:Europe/Madrid
DESCRIPTION:
URI:https://www.montgat.cat/actualitat/agenda-del-mes/2337-concert-de-musica-amb-vo-versions-originals.html
CLASS:PUBLIC
END:VEVENT
END:VCALENDAR
