BEGIN:VCALENDAR
VERSION:2.0
CALSCALE:GREGORIAN
PRODID:-//Diputació de Barcelona//DibaCMS//EN
BEGIN:VEVENT
UID:2186
DTSTAMP:20260419T142956
DTSTART:20220315T000000
DTEND:20220315T000000
SUMMARY:XV Jornades del Dia del consumidor 
LOCATION:
METHOD:PUBLISH
X-WR-CALNAME:montgat@montgat.cat
X-WR-TIMEZONE:Europe/Madrid
DESCRIPTION:
URI:https://www.montgat.cat/actualitat/agenda-del-mes/xv-jornades-del-dia-del-consumidor-.html
CLASS:PUBLIC
END:VEVENT
END:VCALENDAR
