BEGIN:VCALENDAR
VERSION:2.0
CALSCALE:GREGORIAN
PRODID:-//Diputació de Barcelona//DibaCMS//EN
BEGIN:VEVENT
UID:2183
DTSTAMP:20260425T150930
DTSTART:20220324T090000
DTEND:20220324T140000
SUMMARY:Cicle de passejades per a la Gent Gran 
LOCATION:
METHOD:PUBLISH
X-WR-CALNAME:montgat@montgat.cat
X-WR-TIMEZONE:Europe/Madrid
DESCRIPTION:
URI:https://www.montgat.cat/actualitat/agenda-del-mes/cicle-de-passejades-per-a-la-gent-gran-.html
CLASS:PUBLIC
END:VEVENT
END:VCALENDAR
