BEGIN:VCALENDAR
VERSION:2.0
CALSCALE:GREGORIAN
PRODID:-//Diputació de Barcelona//DibaCMS//EN
BEGIN:VEVENT
UID:2017
DTSTAMP:20260422T054001
DTSTART:20211229T000000
DTEND:20211229T000000
SUMMARY:Visita dels Carters Reials
LOCATION:
METHOD:PUBLISH
X-WR-CALNAME:montgat@montgat.cat
X-WR-TIMEZONE:Europe/Madrid
DESCRIPTION:
URI:https://www.montgat.cat/actualitat/agenda-del-mes/visita-dels-carters-reials.html
CLASS:PUBLIC
END:VEVENT
END:VCALENDAR
